BEGIN:VCALENDAR
VERSION:2.0
PRODID:-//Onelife Training - ECPv6.15.20//NONSGML v1.0//EN
CALSCALE:GREGORIAN
METHOD:PUBLISH
X-WR-CALNAME:Onelife Training
X-ORIGINAL-URL:https://onelife-training.co.uk
X-WR-CALDESC:Events for Onelife Training
REFRESH-INTERVAL;VALUE=DURATION:PT1H
X-Robots-Tag:noindex
X-PUBLISHED-TTL:PT1H
BEGIN:VTIMEZONE
TZID:Europe/London
BEGIN:DAYLIGHT
TZOFFSETFROM:+0000
TZOFFSETTO:+0100
TZNAME:BST
DTSTART:20250330T010000
END:DAYLIGHT
BEGIN:STANDARD
TZOFFSETFROM:+0100
TZOFFSETTO:+0000
TZNAME:GMT
DTSTART:20251026T010000
END:STANDARD
BEGIN:DAYLIGHT
TZOFFSETFROM:+0000
TZOFFSETTO:+0100
TZNAME:BST
DTSTART:20260329T010000
END:DAYLIGHT
BEGIN:STANDARD
TZOFFSETFROM:+0100
TZOFFSETTO:+0000
TZNAME:GMT
DTSTART:20261025T010000
END:STANDARD
BEGIN:DAYLIGHT
TZOFFSETFROM:+0000
TZOFFSETTO:+0100
TZNAME:BST
DTSTART:20270328T010000
END:DAYLIGHT
BEGIN:STANDARD
TZOFFSETFROM:+0100
TZOFFSETTO:+0000
TZNAME:GMT
DTSTART:20271031T010000
END:STANDARD
END:VTIMEZONE
BEGIN:VEVENT
DTSTART;TZID=Europe/London:20260508T090000
DTEND;TZID=Europe/London:20260508T170000
DTSTAMP:20260421T152612
CREATED:20251218T120530Z
LAST-MODIFIED:20251218T120530Z
UID:10001117-1778230800-1778259600@onelife-training.co.uk
SUMMARY:1 Day Mental Health FA
DESCRIPTION:Mental Health FA – Course Content:\n\n\n\nIntroductions/Trainer Commitment/Group Agreement\nUnderstanding Mental Health\nUnderstanding Poor Mental Health\nIntroducing The Action Plan\nListening Skills SOLER\nMental Health Quiz\nUnderstanding Stress and signs of\nStigma and Discrimination\nUnderstanding Depression/Depression in the workplace\nAction Plan for Depression\nUnderstanding Suicide/Suicide statistics/CPR for Suicide risk assessment\nDeveloping a workplace action plan for suicide support\nSelf-Care\nUnderstanding Anxiety Discorders/Alcohol/Caffeine and Anxiety\nUnderstanding Anxiety in the workplace\nUnderstanding Eating Disorders/Self Harm/Psychosis\nFocus on Mental Health related Legislation\nMaking ‘reasonable adjustments’ at work\nMental Health Core and Enhanced Standards\nHSE Management Standards\nRecovery – WRAP and Great Dream\nActin Plan for a Mentally Healthier Workplace\nAssessment\nEvaluation\n\nHow Long?\n1 Day – 7 Hours under guidance of trainer/assessor. Further hours spent in preparation\, study including assessment\, pre course reading  total of 7 hours. Learners must complete the assessment unit within registration period to achieve the qualification. Maximum period is 3 weeks including any referrals. \nQualification:\nQA Level 2 Award in Understanding Mental Health in the Workplace (RQF) \n\n\n\n\nInvestment\n\n\n\n\n\n\n\n\n\n\n\n\n\n\n£185.77 per delegate (Price subject to VAT)
URL:https://onelife-training.co.uk/event/1-day-mental-health-fa-10/
LOCATION:Onelife Training Centre\, Exeter Scout HQ\, Unit 9\, Ashton Business Centre\, Ashton Rd\, EX2 8LN\, Exeter\, United Kingdom
CATEGORIES:Mental Health First Aid: 1 Day
ATTACH;FMTTYPE=image/jpeg:https://onelife-training.co.uk/wp-content/uploads/2023/07/mental-health-1.jpg
ORGANIZER;CN="Onelife Training":MAILTO:info@onelife-training.co.uk
END:VEVENT
END:VCALENDAR