BEGIN:VCALENDAR
VERSION:2.0
PRODID:-//Onelife Training - ECPv6.15.20//NONSGML v1.0//EN
CALSCALE:GREGORIAN
METHOD:PUBLISH
X-WR-CALNAME:Onelife Training
X-ORIGINAL-URL:https://onelife-training.co.uk
X-WR-CALDESC:Events for Onelife Training
REFRESH-INTERVAL;VALUE=DURATION:PT1H
X-Robots-Tag:noindex
X-PUBLISHED-TTL:PT1H
BEGIN:VTIMEZONE
TZID:UTC
BEGIN:STANDARD
TZOFFSETFROM:+0000
TZOFFSETTO:+0000
TZNAME:UTC
DTSTART:20220101T000000
END:STANDARD
END:VTIMEZONE
BEGIN:VEVENT
DTSTART;TZID=UTC:20230928T090000
DTEND;TZID=UTC:20230928T160000
DTSTAMP:20260421T095230
CREATED:20230522T050746Z
LAST-MODIFIED:20230522T051116Z
UID:10000021-1695891600-1695916800@onelife-training.co.uk
SUMMARY:Full Day Fire Marshal
DESCRIPTION:
URL:https://onelife-training.co.uk/event/full-day-fire-marshal/2023-09-28/
LOCATION:Onelife Training Centre\, Exeter Scout HQ\, Unit 9\, Ashton Business Centre\, Ashton Rd\, EX2 8LN\, Exeter\, United Kingdom
CATEGORIES:Full Day Fire Marshal
ATTACH;FMTTYPE=image/jpeg:https://onelife-training.co.uk/wp-content/uploads/2023/05/fire-marshal.jpg
ORGANIZER;CN="Onelife Training":MAILTO:info@onelife-training.co.uk
END:VEVENT
BEGIN:VEVENT
DTSTART;TZID=UTC:20230823T090000
DTEND;TZID=UTC:20230823T160000
DTSTAMP:20260421T095230
CREATED:20230522T050746Z
LAST-MODIFIED:20230522T051116Z
UID:10000020-1692781200-1692806400@onelife-training.co.uk
SUMMARY:Full Day Fire Marshal
DESCRIPTION:
URL:https://onelife-training.co.uk/event/full-day-fire-marshal/2023-08-23/
LOCATION:Onelife Training Centre\, Exeter Scout HQ\, Unit 9\, Ashton Business Centre\, Ashton Rd\, EX2 8LN\, Exeter\, United Kingdom
CATEGORIES:Full Day Fire Marshal
ATTACH;FMTTYPE=image/jpeg:https://onelife-training.co.uk/wp-content/uploads/2023/05/fire-marshal.jpg
ORGANIZER;CN="Onelife Training":MAILTO:info@onelife-training.co.uk
END:VEVENT
BEGIN:VEVENT
DTSTART;TZID=UTC:20230718T090000
DTEND;TZID=UTC:20230718T160000
DTSTAMP:20260421T095230
CREATED:20230522T050746Z
LAST-MODIFIED:20230522T051116Z
UID:10000019-1689670800-1689696000@onelife-training.co.uk
SUMMARY:Full Day Fire Marshal
DESCRIPTION:
URL:https://onelife-training.co.uk/event/full-day-fire-marshal/2023-07-18/
LOCATION:Onelife Training Centre\, Exeter Scout HQ\, Unit 9\, Ashton Business Centre\, Ashton Rd\, EX2 8LN\, Exeter\, United Kingdom
CATEGORIES:Full Day Fire Marshal
ATTACH;FMTTYPE=image/jpeg:https://onelife-training.co.uk/wp-content/uploads/2023/05/fire-marshal.jpg
ORGANIZER;CN="Onelife Training":MAILTO:info@onelife-training.co.uk
END:VEVENT
BEGIN:VEVENT
DTSTART;TZID=UTC:20230629T090000
DTEND;TZID=UTC:20230629T160000
DTSTAMP:20260421T095230
CREATED:20230522T050746Z
LAST-MODIFIED:20230522T051116Z
UID:10000018-1688029200-1688054400@onelife-training.co.uk
SUMMARY:Full Day Fire Marshal
DESCRIPTION:
URL:https://onelife-training.co.uk/event/full-day-fire-marshal/2023-06-29/
LOCATION:Onelife Training Centre\, Exeter Scout HQ\, Unit 9\, Ashton Business Centre\, Ashton Rd\, EX2 8LN\, Exeter\, United Kingdom
CATEGORIES:Full Day Fire Marshal
ATTACH;FMTTYPE=image/jpeg:https://onelife-training.co.uk/wp-content/uploads/2023/05/fire-marshal.jpg
ORGANIZER;CN="Onelife Training":MAILTO:info@onelife-training.co.uk
END:VEVENT
BEGIN:VEVENT
DTSTART;TZID=UTC:20230530T090000
DTEND;TZID=UTC:20230530T160000
DTSTAMP:20260421T095230
CREATED:20230522T050746Z
LAST-MODIFIED:20230522T051116Z
UID:10000017-1685437200-1685462400@onelife-training.co.uk
SUMMARY:Full Day Fire Marshal
DESCRIPTION:
URL:https://onelife-training.co.uk/event/full-day-fire-marshal/2023-05-30/
LOCATION:Onelife Training Centre\, Exeter Scout HQ\, Unit 9\, Ashton Business Centre\, Ashton Rd\, EX2 8LN\, Exeter\, United Kingdom
CATEGORIES:Full Day Fire Marshal
ATTACH;FMTTYPE=image/jpeg:https://onelife-training.co.uk/wp-content/uploads/2023/05/fire-marshal.jpg
ORGANIZER;CN="Onelife Training":MAILTO:info@onelife-training.co.uk
END:VEVENT
END:VCALENDAR