BEGIN:VCALENDAR
VERSION:2.0
PRODID:-//Onelife Training - ECPv6.15.20//NONSGML v1.0//EN
CALSCALE:GREGORIAN
METHOD:PUBLISH
X-ORIGINAL-URL:https://onelife-training.co.uk
X-WR-CALDESC:Events for Onelife Training
REFRESH-INTERVAL;VALUE=DURATION:PT1H
X-Robots-Tag:noindex
X-PUBLISHED-TTL:PT1H
BEGIN:VTIMEZONE
TZID:Europe/London
BEGIN:DAYLIGHT
TZOFFSETFROM:+0000
TZOFFSETTO:+0100
TZNAME:BST
DTSTART:20240331T010000
END:DAYLIGHT
BEGIN:STANDARD
TZOFFSETFROM:+0100
TZOFFSETTO:+0000
TZNAME:GMT
DTSTART:20241027T010000
END:STANDARD
BEGIN:DAYLIGHT
TZOFFSETFROM:+0000
TZOFFSETTO:+0100
TZNAME:BST
DTSTART:20250330T010000
END:DAYLIGHT
BEGIN:STANDARD
TZOFFSETFROM:+0100
TZOFFSETTO:+0000
TZNAME:GMT
DTSTART:20251026T010000
END:STANDARD
BEGIN:DAYLIGHT
TZOFFSETFROM:+0000
TZOFFSETTO:+0100
TZNAME:BST
DTSTART:20260329T010000
END:DAYLIGHT
BEGIN:STANDARD
TZOFFSETFROM:+0100
TZOFFSETTO:+0000
TZNAME:GMT
DTSTART:20261025T010000
END:STANDARD
END:VTIMEZONE
BEGIN:VEVENT
DTSTART;TZID=Europe/London:20251006T090000
DTEND;TZID=Europe/London:20251006T160000
DTSTAMP:20260425T123400
CREATED:20250528T123437Z
LAST-MODIFIED:20250528T123437Z
UID:10000870-1759741200-1759766400@onelife-training.co.uk
SUMMARY:2 Day (BL) Paediatric FA
DESCRIPTION:2 Day Paediatric First Aid\nBlended Learning Course Content:\nDay 1 – Online 6 Hours Pre Learning \n\n\nThe Role and Responsibilities of Paediatric First Aider\nIncident and casualty assessment\nHypoxia\nShock\nDiabetes\nAsthma\nMeningitis and Sepsis\nManagement of a seizure\nFebrile Convulsions\nAllergic reactions and anaphylaxis\nPoisons\nBurns & Scalds\nElectric Shock\nFractures\, dislocations\, sprains and strains\nHead\, neck and spinal injuries\nForeign Bodies\nEye Injuries\nExtremes of heat and cold\nMinor injuries\n\nDay 2 – Paediatric First Aid – Face to Face Classroom Session\n\n\n\nAssembly and introductions\nRoles and responsibilities of a paediatric first aider\nIncident and casualty assessment\nCPR and AED\nUnconscious casualty\nChoking casualty\nExternal bleeding and shock\nAsthma\nDiabetes\nAnaphylaxis\nFractures\, dislocations\, sprains and strains\nHead\, neck and spinal injuries\nRevision of theory assessment\n2 x multiple choice question paper/theory assessments\n\nHow Long?\n2 Days 9.00- 4.00 –  Day 1 – Online & Day 2 – Classroom Session.\nWhen booking Saturday Courses you need to select Paediatric Day 1 and Day 2. You only pay once. \nQualification:\nQA Level 3 Award in Paediatric First aid 2 Units (RQF) \nCertificate valid for 3 years. \nFully meets Ofsted and EYFS requirements \n\n\n\n\nCost\n\n\n£125.62 per delegate (Price subject to VAT)
URL:https://onelife-training.co.uk/event/2-day-bl-paediatric-fa-76/
LOCATION:Onelife Training Centre\, Exeter Scout HQ\, Unit 9\, Ashton Business Centre\, Ashton Rd\, EX2 8LN\, Exeter\, United Kingdom
CATEGORIES:2 Day (BL) Paediatric FA,2 Day Paediatric Emergency First Aid
ATTACH;FMTTYPE=image/jpeg:https://onelife-training.co.uk/wp-content/uploads/2023/06/Paediatric-Emergency-First-Aid-two-day-1.jpg
ORGANIZER;CN="Onelife Training":MAILTO:info@onelife-training.co.uk
END:VEVENT
BEGIN:VEVENT
DTSTART;TZID=Europe/London:20251011T090000
DTEND;TZID=Europe/London:20251011T160000
DTSTAMP:20260425T123400
CREATED:20250528T123719Z
LAST-MODIFIED:20250528T123719Z
UID:10000871-1760173200-1760198400@onelife-training.co.uk
SUMMARY:2 Day (BL) Paediatric FA
DESCRIPTION:2 Day Paediatric First Aid\nBlended Learning Course Content:\nDay 1 – Online 6 Hours Pre Learning \n\n\nThe Role and Responsibilities of Paediatric First Aider\nIncident and casualty assessment\nHypoxia\nShock\nDiabetes\nAsthma\nMeningitis and Sepsis\nManagement of a seizure\nFebrile Convulsions\nAllergic reactions and anaphylaxis\nPoisons\nBurns & Scalds\nElectric Shock\nFractures\, dislocations\, sprains and strains\nHead\, neck and spinal injuries\nForeign Bodies\nEye Injuries\nExtremes of heat and cold\nMinor injuries\n\nDay 2 – Paediatric First Aid – Face to Face Classroom Session\n\n\n\nAssembly and introductions\nRoles and responsibilities of a paediatric first aider\nIncident and casualty assessment\nCPR and AED\nUnconscious casualty\nChoking casualty\nExternal bleeding and shock\nAsthma\nDiabetes\nAnaphylaxis\nFractures\, dislocations\, sprains and strains\nHead\, neck and spinal injuries\nRevision of theory assessment\n2 x multiple choice question paper/theory assessments\n\nHow Long?\n2 Days 9.00- 4.00 –  Day 1 – Online & Day 2 – Classroom Session.\nWhen booking Saturday Courses you need to select Paediatric Day 1 and Day 2. You only pay once. \nQualification:\nQA Level 3 Award in Paediatric First aid 2 Units (RQF) \nCertificate valid for 3 years. \nFully meets Ofsted and EYFS requirements \n\n\n\n\nCost\n\n\n£125.62 per delegate (Price subject to VAT)
URL:https://onelife-training.co.uk/event/2-day-bl-paediatric-fa-77/
LOCATION:Onelife Training Centre\, Exeter Scout HQ\, Unit 9\, Ashton Business Centre\, Ashton Rd\, EX2 8LN\, Exeter\, United Kingdom
CATEGORIES:2 Day (BL) Paediatric FA,2 Day Paediatric Emergency First Aid
ATTACH;FMTTYPE=image/jpeg:https://onelife-training.co.uk/wp-content/uploads/2023/06/Paediatric-Emergency-First-Aid-two-day-1.jpg
ORGANIZER;CN="Onelife Training":MAILTO:info@onelife-training.co.uk
END:VEVENT
BEGIN:VEVENT
DTSTART;TZID=Europe/London:20251015T090000
DTEND;TZID=Europe/London:20251015T160000
DTSTAMP:20260425T123400
CREATED:20250528T123931Z
LAST-MODIFIED:20250528T123931Z
UID:10000872-1760518800-1760544000@onelife-training.co.uk
SUMMARY:2 Day (BL) Paediatric FA
DESCRIPTION:2 Day Paediatric First Aid\nBlended Learning Course Content:\nDay 1 – Online 6 Hours Pre Learning \n\n\nThe Role and Responsibilities of Paediatric First Aider\nIncident and casualty assessment\nHypoxia\nShock\nDiabetes\nAsthma\nMeningitis and Sepsis\nManagement of a seizure\nFebrile Convulsions\nAllergic reactions and anaphylaxis\nPoisons\nBurns & Scalds\nElectric Shock\nFractures\, dislocations\, sprains and strains\nHead\, neck and spinal injuries\nForeign Bodies\nEye Injuries\nExtremes of heat and cold\nMinor injuries\n\nDay 2 – Paediatric First Aid – Face to Face Classroom Session\n\n\n\nAssembly and introductions\nRoles and responsibilities of a paediatric first aider\nIncident and casualty assessment\nCPR and AED\nUnconscious casualty\nChoking casualty\nExternal bleeding and shock\nAsthma\nDiabetes\nAnaphylaxis\nFractures\, dislocations\, sprains and strains\nHead\, neck and spinal injuries\nRevision of theory assessment\n2 x multiple choice question paper/theory assessments\n\nHow Long?\n2 Days 9.00- 4.00 –  Day 1 – Online & Day 2 – Classroom Session.\nWhen booking Saturday Courses you need to select Paediatric Day 1 and Day 2. You only pay once. \nQualification:\nQA Level 3 Award in Paediatric First aid 2 Units (RQF) \nCertificate valid for 3 years. \nFully meets Ofsted and EYFS requirements \n\n\n\n\nCost\n\n\n£125.62 per delegate (Price subject to VAT)
URL:https://onelife-training.co.uk/event/2-day-bl-paediatric-fa-78/
LOCATION:Onelife Training Centre\, Exeter Scout HQ\, Unit 9\, Ashton Business Centre\, Ashton Rd\, EX2 8LN\, Exeter\, United Kingdom
CATEGORIES:2 Day (BL) Paediatric FA,2 Day Paediatric Emergency First Aid
ATTACH;FMTTYPE=image/jpeg:https://onelife-training.co.uk/wp-content/uploads/2023/06/Paediatric-Emergency-First-Aid-two-day-1.jpg
ORGANIZER;CN="Onelife Training":MAILTO:info@onelife-training.co.uk
END:VEVENT
BEGIN:VEVENT
DTSTART;TZID=Europe/London:20251020T090000
DTEND;TZID=Europe/London:20251020T160000
DTSTAMP:20260425T123400
CREATED:20250528T104713Z
LAST-MODIFIED:20250528T104713Z
UID:10000868-1760950800-1760976000@onelife-training.co.uk
SUMMARY:1 Day Paediatric FA
DESCRIPTION:Paediatric Emergency First Aid – Course Content:\n\nThe Roles and responsibilities of Paediatric First Aider\nIncident and casualty assessment\nCPR & AED\nUnconscious casualty\nManagement of a seizure\nChoking casualty\nShock\nExternal Bleeding\, minor injuries and bites and stings\nMCQ Assessments – Multiple choice\n\nHow Long?\n1 Days 9.00- 4.00 – 6 Hours \nQualification:\nQA Level 3 Award in Paediatric Emergency First aid 1 Credit (RQF) \nOn completion of a written & practical assessment you will receive\nQA Level 2 Award in Paediatric Emergency First Aid 1 Credit (RQF) – Certificate valid for 3 years. \nCost\n£106.66 per delegate (Price subject to VAT)
URL:https://onelife-training.co.uk/event/1-day-paediatric-fa-22/
LOCATION:Onelife Training Centre\, Exeter Scout HQ\, Unit 9\, Ashton Business Centre\, Ashton Rd\, EX2 8LN\, Exeter\, United Kingdom
CATEGORIES:1 Day Paediatric Emergency First Aid,2 Day (BL) Paediatric FA
ATTACH;FMTTYPE=image/jpeg:https://onelife-training.co.uk/wp-content/uploads/2023/06/Paediatric-Emergency-First-Aid.jpg
ORGANIZER;CN="Onelife Training":MAILTO:info@onelife-training.co.uk
END:VEVENT
BEGIN:VEVENT
DTSTART;TZID=Europe/London:20251020T090000
DTEND;TZID=Europe/London:20251021T160000
DTSTAMP:20260425T123400
CREATED:20250528T105344Z
LAST-MODIFIED:20250528T105711Z
UID:10000869-1760950800-1761062400@onelife-training.co.uk
SUMMARY:2 Day Paediatric FA
DESCRIPTION:2 Day Paediatric First Aid – Course Content:\nDay 1 – Unit 1 – Paediatric Emergency First Aid \n\n\nThe Role and Responsibilities of Paediatric First Aider\nIncident and casualty assessment\nCPR & AED\nUnconscious Casualty\nManagement of a seizure\nChoking Casualty\nExternal Bleeding\, minor injuries and bites and stings\nMCQ Assessments – Multiple choice\nIssue any homework reading\n\n\nDay 2 – Unit 2 – Managing Paediatric illness\, injuries and emergencies \n\nFractures\nHead\, neck and back injuries\nEyes\, ears and nose conditions\nChronic medical conditions or sudden illness – Diabetes/Asthmas/Meningitis and febrile convulsions\nBody Temperature\nElectric Shock\nBurns and scalds\nPoisonous substances\nAllergic reaction and anaphylaxis\nMCQ Assessment – Multiple Choice\n\nHow Long?\n2 Days 9.00- 4.00 – 12 Hours (might not be consecutive days\, please see dates below) When booking Saturday Courses you need to select Paediatric Day 1 and Day 2. You only pay once. \nQualification:\nQA Level 3 Award in Paediatric First aid 2 Units (RQF) \nCertificate valid for 3 years\, matches all Sure start criteria. \n\n\n\n\nCost\n\n\n\n\n\n\n£143.40 per delegate (Price subject to VAT)
URL:https://onelife-training.co.uk/event/2-day-paediatric-fa-21/
LOCATION:Onelife Training Centre\, Exeter Scout HQ\, Unit 9\, Ashton Business Centre\, Ashton Rd\, EX2 8LN\, Exeter\, United Kingdom
CATEGORIES:2 Day (BL) Paediatric FA,2 Day Paediatric Emergency First Aid
ATTACH;FMTTYPE=image/jpeg:https://onelife-training.co.uk/wp-content/uploads/2023/06/Paediatric-Emergency-First-Aid-two-day-1.jpg
ORGANIZER;CN="Onelife Training":MAILTO:info@onelife-training.co.uk
END:VEVENT
BEGIN:VEVENT
DTSTART;TZID=Europe/London:20251030T090000
DTEND;TZID=Europe/London:20251030T160000
DTSTAMP:20260425T123400
CREATED:20250528T124132Z
LAST-MODIFIED:20250528T124132Z
UID:10000873-1761814800-1761840000@onelife-training.co.uk
SUMMARY:2 Day (BL) Paediatric FA
DESCRIPTION:2 Day Paediatric First Aid\nBlended Learning Course Content:\nDay 1 – Online 6 Hours Pre Learning \n\n\nThe Role and Responsibilities of Paediatric First Aider\nIncident and casualty assessment\nHypoxia\nShock\nDiabetes\nAsthma\nMeningitis and Sepsis\nManagement of a seizure\nFebrile Convulsions\nAllergic reactions and anaphylaxis\nPoisons\nBurns & Scalds\nElectric Shock\nFractures\, dislocations\, sprains and strains\nHead\, neck and spinal injuries\nForeign Bodies\nEye Injuries\nExtremes of heat and cold\nMinor injuries\n\nDay 2 – Paediatric First Aid – Face to Face Classroom Session\n\n\n\nAssembly and introductions\nRoles and responsibilities of a paediatric first aider\nIncident and casualty assessment\nCPR and AED\nUnconscious casualty\nChoking casualty\nExternal bleeding and shock\nAsthma\nDiabetes\nAnaphylaxis\nFractures\, dislocations\, sprains and strains\nHead\, neck and spinal injuries\nRevision of theory assessment\n2 x multiple choice question paper/theory assessments\n\nHow Long?\n2 Days 9.00- 4.00 –  Day 1 – Online & Day 2 – Classroom Session.\nWhen booking Saturday Courses you need to select Paediatric Day 1 and Day 2. You only pay once. \nQualification:\nQA Level 3 Award in Paediatric First aid 2 Units (RQF) \nCertificate valid for 3 years. \nFully meets Ofsted and EYFS requirements \n\n\n\n\nCost\n\n\n£125.62 per delegate (Price subject to VAT)
URL:https://onelife-training.co.uk/event/2-day-bl-paediatric-fa-79/
LOCATION:Onelife Training Centre\, Exeter Scout HQ\, Unit 9\, Ashton Business Centre\, Ashton Rd\, EX2 8LN\, Exeter\, United Kingdom
CATEGORIES:2 Day (BL) Paediatric FA,2 Day Paediatric Emergency First Aid
ATTACH;FMTTYPE=image/jpeg:https://onelife-training.co.uk/wp-content/uploads/2023/06/Paediatric-Emergency-First-Aid-two-day-1.jpg
ORGANIZER;CN="Onelife Training":MAILTO:info@onelife-training.co.uk
END:VEVENT
END:VCALENDAR